BEGIN:VCALENDAR
PRODID:-//eluceo/ical//2.0/EN
VERSION:2.0
CALSCALE:GREGORIAN
BEGIN:VEVENT
UID:56a42c429e6d48fa116adc0e20d7b995
DTSTAMP:20260420T142149Z
SUMMARY:Analyzing Propaganda -Teaching Media Literacy: The Holocaust Case S
 tudy
DESCRIPTION:Jewish Federation of West-Central New Jersey\nBoard Meeting Sch
 edule\nhttps://jfedwcnj.org/board-meeting-schedule/analyzing-propaganda-te
 aching-media-literacy-the-holocaust-case-study\n\nAnalyzing Propaganda and
  Teaching Media Literacy: The Holocaust as a Case Study (Teacher Seminar):
 \n\nFacilitated by Echoes & Reflections. It is a joint program of ADL\, US
 C Shoah Foundation\, and Yad Vashem. Free 2-Day Online Program for 3 Hr 
 Professional Development Credits \n\nPART ONE: THURSDAY\, OCTOBER 8\, 202
 0 | 3 :30 PM - 5 PM  \n\nPART TWO: THURSDAY\, OCTOBER 15\, 2020 | 3:30 P
 M- 5 PM\n\n \n\nMedia literacy skills have become essential for young peo
 ple to successfully navigate and ...
DTSTART;TZID=America/New_York:20201008T153000
DTEND;TZID=America/New_York:20201008T170000
END:VEVENT
END:VCALENDAR
