BEGIN:VCALENDAR
PRODID:-//eluceo/ical//2.0/EN
VERSION:2.0
CALSCALE:GREGORIAN
BEGIN:VEVENT
UID:4aac9f02e224bace892cd4d0ac7dd407
DTSTAMP:20260422T172549Z
SUMMARY:Analyzing Propaganda &Teaching Media Literacy: The Holocaust Case S
 tudy
DESCRIPTION:Jewish Federation of West-Central New Jersey\nBoard Meeting Sch
 edule\nhttps://jfedwcnj.org/board-meeting-schedule/analyzing-propaganda-an
 d-teaching-media-literacy-the-holocaust-as-a-case-study2\n\nAnalyzing Prop
 aganda and Teaching Media Literacy: The Holocaust as a Case Study (Teacher
  Seminar):\n\nFacilitated by Echoes & Reflections. It is a joint program o
 f ADL\, USC Shoah Foundation\, and Yad Vashem. Free 2-Day Online Program
  for 3 Hr Professional Development Credits \n\nPART ONE: THURSDAY\, OCTOB
 ER 8\, 2020 | 3 :30 PM - 5 PM  \n\nPART TWO: THURSDAY\, OCTOBER 15\, 202
 0 | 3:30 PM- 5 PM\n\n \n\nMedia literacy skills have become essential for
  young people to successfully navigate and cr...
DTSTART;TZID=America/New_York:20201015T153000
DTEND;TZID=America/New_York:20201015T170000
END:VEVENT
END:VCALENDAR
